BEGIN:VCALENDAR
VERSION:2.0
PRODID:-//Eventin//Event Calendar//EN
CALSCALE:GREGORIAN
METHOD:PUBLISH
BEGIN:VEVENT
UID:dc4a6a7a38ca148e35a2cc9442ecac26@forumbrasileuropa.org
SUMMARY:DUETOS Algoritmos em Debate: Instituições e IA
DESCRIPTION: Duetos\, Diálogos Além-Mar terá como tema Algoritmos em 
 Debate: Instituições e IA. O encontro aproximará o pensamento de Virg
 ílio Almeida\, coautor do livro Política dos algoritmos: instituições
  e as transformações da vida social\, da experiência de Helena Moniz\, 
 coordenadora do projecto Bridge IA. Dia 27/4\, na Livraria Almedina Salda
 nha.\nSaiba mais sobre o Duetos - Diálogos Além-Mar
LOCATION:Hybrid
DTSTAMP:20260419T153112Z
DTSTART:20260427T160000Z
DTEND:20260427T172000Z
END:VEVENT
END:VCALENDAR
