BEGIN:VCALENDAR
VERSION:2.0
PRODID:-//Eventin//Event Calendar//EN
CALSCALE:GREGORIAN
METHOD:PUBLISH
BEGIN:VEVENT
UID:d2fd68039aaa04e5c5c78c997f624cd1@forumbrasileuropa.org
SUMMARY:Prémio FIBE 2024
DESCRIPTION:O Prémio FIBE chega à segunda edição em 2024\, após de con
 tabilizar dezenas de inscrições de dissertações de mestrado e pesquisad
 ores de teses de doutoramento na estreia\, em 2023.  O regulamento deste an
 o será apresentado num Webinário\, que contará com a presença de alguns
  dos premiados. \n\n\n\n“É com algum orgulho que informo que o número m
 uito significativo de inscrições excedeu as nossas expetativas. O júri t
 ambém teve verdadeiramente uma tarefa difícil para fazer uma hierarquiza
 ção dos trabalhos\, que\, de uma forma geral\, tiveram bastante qualidade
  e vários domínios”\, resumiu o presidente do FIBE\, o especialista em 
 direito constitucional Vitalino Canas. A distinção\, instituída para se
 r instrumento de incentivo a estudantes e pesquisadores\, ao mesmo tempo em
  que celebra a proximidade cultural\, económica\, política e social do Br
 asil com a Europa.  Os vencedores receberão uma premiação em dinheiro 
 e terão os trabalhos publicados pelo Selo FIBE\, através da editora Almed
 ina.
LOCATION:Online
DTSTAMP:20260419T135731Z
DTSTART:20260419T135731Z
DTEND:20260419T135731Z
END:VEVENT
END:VCALENDAR
